BEGIN:VCALENDAR
VERSION:2.0
PRODID:-// - ECPv6.15.20//NONSGML v1.0//EN
CALSCALE:GREGORIAN
METHOD:PUBLISH
X-ORIGINAL-URL:https://gsamalienhof.de
X-WR-CALDESC:Veranstaltungen für 
REFRESH-INTERVAL;VALUE=DURATION:PT1H
X-Robots-Tag:noindex
X-PUBLISHED-TTL:PT1H
BEGIN:VTIMEZONE
TZID:Europe/Berlin
BEGIN:DAYLIGHT
TZOFFSETFROM:+0100
TZOFFSETTO:+0200
TZNAME:CEST
DTSTART:20150329T010000
END:DAYLIGHT
BEGIN:STANDARD
TZOFFSETFROM:+0200
TZOFFSETTO:+0100
TZNAME:CET
DTSTART:20151025T010000
END:STANDARD
BEGIN:DAYLIGHT
TZOFFSETFROM:+0100
TZOFFSETTO:+0200
TZNAME:CEST
DTSTART:20160327T010000
END:DAYLIGHT
BEGIN:STANDARD
TZOFFSETFROM:+0200
TZOFFSETTO:+0100
TZNAME:CET
DTSTART:20161030T010000
END:STANDARD
BEGIN:DAYLIGHT
TZOFFSETFROM:+0100
TZOFFSETTO:+0200
TZNAME:CEST
DTSTART:20170326T010000
END:DAYLIGHT
BEGIN:STANDARD
TZOFFSETFROM:+0200
TZOFFSETTO:+0100
TZNAME:CET
DTSTART:20171029T010000
END:STANDARD
END:VTIMEZONE
BEGIN:VEVENT
DTSTART;VALUE=DATE:20161003
DTEND;VALUE=DATE:20161004
DTSTAMP:20260421T120127
CREATED:20160927T165102Z
LAST-MODIFIED:20160927T165102Z
UID:686-1475452800-1475539199@gsamalienhof.de
SUMMARY:Schulfrei
DESCRIPTION:
URL:https://gsamalienhof.de/event/schulfrei-6/
END:VEVENT
BEGIN:VEVENT
DTSTART;TZID=Europe/Berlin:20161017T080000
DTEND;TZID=Europe/Berlin:20161028T170000
DTSTAMP:20260421T120127
CREATED:20160927T165332Z
LAST-MODIFIED:20160927T165332Z
UID:688-1476691200-1477674000@gsamalienhof.de
SUMMARY:Oktoberferien
DESCRIPTION:
URL:https://gsamalienhof.de/event/oktoberferien/
END:VEVENT
BEGIN:VEVENT
DTSTART;VALUE=DATE:20161031
DTEND;VALUE=DATE:20161105
DTSTAMP:20260421T120127
CREATED:20160927T165627Z
LAST-MODIFIED:20160927T165627Z
UID:690-1477872000-1478303999@gsamalienhof.de
SUMMARY:Erasmus+ in Tschechien
DESCRIPTION:Frau Saadi\, Frau Huster\, Frau Bandorf\, Frau Wotzka\, Frau Laichmann und Frau Lemke werden unsere Schule in Tschechien vertreten.
URL:https://gsamalienhof.de/event/erasmus-in-tschechien/
END:VEVENT
END:VCALENDAR