BEGIN:VCALENDAR
VERSION:2.0
PRODID:-// - ECPv6.15.20//NONSGML v1.0//EN
CALSCALE:GREGORIAN
METHOD:PUBLISH
X-ORIGINAL-URL:https://gsamalienhof.de
X-WR-CALDESC:Veranstaltungen für 
REFRESH-INTERVAL;VALUE=DURATION:PT1H
X-Robots-Tag:noindex
X-PUBLISHED-TTL:PT1H
BEGIN:VTIMEZONE
TZID:Europe/Berlin
BEGIN:DAYLIGHT
TZOFFSETFROM:+0100
TZOFFSETTO:+0200
TZNAME:CEST
DTSTART:20150329T010000
END:DAYLIGHT
BEGIN:STANDARD
TZOFFSETFROM:+0200
TZOFFSETTO:+0100
TZNAME:CET
DTSTART:20151025T010000
END:STANDARD
BEGIN:DAYLIGHT
TZOFFSETFROM:+0100
TZOFFSETTO:+0200
TZNAME:CEST
DTSTART:20160327T010000
END:DAYLIGHT
BEGIN:STANDARD
TZOFFSETFROM:+0200
TZOFFSETTO:+0100
TZNAME:CET
DTSTART:20161030T010000
END:STANDARD
BEGIN:DAYLIGHT
TZOFFSETFROM:+0100
TZOFFSETTO:+0200
TZNAME:CEST
DTSTART:20170326T010000
END:DAYLIGHT
BEGIN:STANDARD
TZOFFSETFROM:+0200
TZOFFSETTO:+0100
TZNAME:CET
DTSTART:20171029T010000
END:STANDARD
END:VTIMEZONE
BEGIN:VEVENT
DTSTART;VALUE=DATE:20160715
DTEND;VALUE=DATE:20160716
DTSTAMP:20260423T103644
CREATED:20160118T203832Z
LAST-MODIFIED:20160118T203832Z
UID:294-1468540800-1468627199@gsamalienhof.de
SUMMARY:Fußballturnier
DESCRIPTION:
URL:https://gsamalienhof.de/event/fussballturnier/
END:VEVENT
BEGIN:VEVENT
DTSTART;VALUE=DATE:20160719
DTEND;VALUE=DATE:20160720
DTSTAMP:20260423T103644
CREATED:20160118T204034Z
LAST-MODIFIED:20160118T204034Z
UID:296-1468886400-1468972799@gsamalienhof.de
SUMMARY:Schülerehrung
DESCRIPTION:
URL:https://gsamalienhof.de/event/schuelerehrung/
END:VEVENT
BEGIN:VEVENT
DTSTART;TZID=Europe/Berlin:20160720T080000
DTEND;TZID=Europe/Berlin:20160720T104500
DTSTAMP:20260423T103644
CREATED:20160118T203949Z
LAST-MODIFIED:20160118T203949Z
UID:295-1469001600-1469011500@gsamalienhof.de
SUMMARY:Zeugnisse\, Unterrichtsschluss um 10.45 Uhr
DESCRIPTION:
URL:https://gsamalienhof.de/event/zeugnisse-unterrichtsschluss-um-10-45-uhr/
END:VEVENT
BEGIN:VEVENT
DTSTART;VALUE=DATE:20160721
DTEND;VALUE=DATE:20160905
DTSTAMP:20260423T103644
CREATED:20160118T204116Z
LAST-MODIFIED:20160118T204116Z
UID:297-1469059200-1473033599@gsamalienhof.de
SUMMARY:Sommerferien
DESCRIPTION:
URL:https://gsamalienhof.de/event/sommerferien/
END:VEVENT
END:VCALENDAR