BEGIN:VCALENDAR
VERSION:2.0
PRODID:-// - ECPv6.15.20//NONSGML v1.0//EN
CALSCALE:GREGORIAN
METHOD:PUBLISH
X-ORIGINAL-URL:https://gsamalienhof.de
X-WR-CALDESC:Veranstaltungen für 
REFRESH-INTERVAL;VALUE=DURATION:PT1H
X-Robots-Tag:noindex
X-PUBLISHED-TTL:PT1H
BEGIN:VTIMEZONE
TZID:Europe/Berlin
BEGIN:DAYLIGHT
TZOFFSETFROM:+0100
TZOFFSETTO:+0200
TZNAME:CEST
DTSTART:20150329T010000
END:DAYLIGHT
BEGIN:STANDARD
TZOFFSETFROM:+0200
TZOFFSETTO:+0100
TZNAME:CET
DTSTART:20151025T010000
END:STANDARD
BEGIN:DAYLIGHT
TZOFFSETFROM:+0100
TZOFFSETTO:+0200
TZNAME:CEST
DTSTART:20160327T010000
END:DAYLIGHT
BEGIN:STANDARD
TZOFFSETFROM:+0200
TZOFFSETTO:+0100
TZNAME:CET
DTSTART:20161030T010000
END:STANDARD
BEGIN:DAYLIGHT
TZOFFSETFROM:+0100
TZOFFSETTO:+0200
TZNAME:CEST
DTSTART:20170326T010000
END:DAYLIGHT
BEGIN:STANDARD
TZOFFSETFROM:+0200
TZOFFSETTO:+0100
TZNAME:CET
DTSTART:20171029T010000
END:STANDARD
END:VTIMEZONE
BEGIN:VEVENT
DTSTART;TZID=Europe/Berlin:20160602T080000
DTEND;TZID=Europe/Berlin:20160602T170000
DTSTAMP:20260423T120930
CREATED:20160526T194714Z
LAST-MODIFIED:20160526T194714Z
UID:433-1464854400-1464886800@gsamalienhof.de
SUMMARY:Studientag des Kollegiums
DESCRIPTION:Schule und Hort sind an diesem Tag geschlossen.
URL:https://gsamalienhof.de/event/studientag-des-kollegiums/
END:VEVENT
BEGIN:VEVENT
DTSTART;TZID=Europe/Berlin:20160627T080000
DTEND;TZID=Europe/Berlin:20160627T124500
DTSTAMP:20260423T120930
CREATED:20160526T195404Z
LAST-MODIFIED:20160526T195404Z
UID:435-1467014400-1467031500@gsamalienhof.de
SUMMARY:Leseprojekttag
DESCRIPTION:
URL:https://gsamalienhof.de/event/leseprojekttag/
END:VEVENT
BEGIN:VEVENT
DTSTART;TZID=Europe/Berlin:20160628T170000
DTEND;TZID=Europe/Berlin:20160628T170000
DTSTAMP:20260423T120930
CREATED:20160118T203752Z
LAST-MODIFIED:20160606T190015Z
UID:293-1467133200-1467133200@gsamalienhof.de
SUMMARY:Sommertheater im Mehrzweckraum
DESCRIPTION:
URL:https://gsamalienhof.de/event/sommertheater-im-mehrzweckraum/
END:VEVENT
END:VCALENDAR