BEGIN:VCALENDAR
VERSION:2.0
PRODID:-// - ECPv6.15.20//NONSGML v1.0//EN
CALSCALE:GREGORIAN
METHOD:PUBLISH
X-ORIGINAL-URL:https://gsamalienhof.de
X-WR-CALDESC:Veranstaltungen für 
REFRESH-INTERVAL;VALUE=DURATION:PT1H
X-Robots-Tag:noindex
X-PUBLISHED-TTL:PT1H
BEGIN:VTIMEZONE
TZID:Europe/Berlin
BEGIN:DAYLIGHT
TZOFFSETFROM:+0100
TZOFFSETTO:+0200
TZNAME:CEST
DTSTART:20150329T010000
END:DAYLIGHT
BEGIN:STANDARD
TZOFFSETFROM:+0200
TZOFFSETTO:+0100
TZNAME:CET
DTSTART:20151025T010000
END:STANDARD
BEGIN:DAYLIGHT
TZOFFSETFROM:+0100
TZOFFSETTO:+0200
TZNAME:CEST
DTSTART:20160327T010000
END:DAYLIGHT
BEGIN:STANDARD
TZOFFSETFROM:+0200
TZOFFSETTO:+0100
TZNAME:CET
DTSTART:20161030T010000
END:STANDARD
BEGIN:DAYLIGHT
TZOFFSETFROM:+0100
TZOFFSETTO:+0200
TZNAME:CEST
DTSTART:20170326T010000
END:DAYLIGHT
BEGIN:STANDARD
TZOFFSETFROM:+0200
TZOFFSETTO:+0100
TZNAME:CET
DTSTART:20171029T010000
END:STANDARD
END:VTIMEZONE
BEGIN:VEVENT
DTSTART;VALUE=DATE:20160303
DTEND;VALUE=DATE:20160304
DTSTAMP:20260423T164158
CREATED:20160118T201103Z
LAST-MODIFIED:20160118T201156Z
UID:279-1456963200-1457049599@gsamalienhof.de
SUMMARY:3a\, 3b\, 5a im Kulturhaus Spandau "E=magic²"
DESCRIPTION:
URL:https://gsamalienhof.de/event/3a-3b-5a-im-kulturhaus-spandau-emagic%c2%b2/
END:VEVENT
BEGIN:VEVENT
DTSTART;VALUE=DATE:20160308
DTEND;VALUE=DATE:20160309
DTSTAMP:20260423T164158
CREATED:20160119T194425Z
LAST-MODIFIED:20160119T194924Z
UID:299-1457395200-1457481599@gsamalienhof.de
SUMMARY:G5/Bären:  Jona´s-Haus
DESCRIPTION:
URL:https://gsamalienhof.de/event/g5baeren-jonas-haus/
END:VEVENT
BEGIN:VEVENT
DTSTART;VALUE=DATE:20160316
DTEND;VALUE=DATE:20160317
DTSTAMP:20260423T164158
CREATED:20160118T201242Z
LAST-MODIFIED:20160323T095341Z
UID:281-1458086400-1458172799@gsamalienhof.de
SUMMARY:3a beim Osterbacken
DESCRIPTION:Hier das Rezept für 12 Osterkränze:\n1. 12 Eier hart kochen und mit Kaltfarbe färben. \n2. 500g Mehl und 40g Hefe gut mischen. Dazu kommen 2 Eier\, 120gr Zucker\, 1/2 Tl Salz\, 1/4 l lauwarme Milch und 80gr weiche Butter gut durchkneten. Teig am warmen Ort abgedeckt gehen lassen. \n3.  Wenn der Teig doppelt so groß ist\, teilt man ihn in 12 Kugeln. Jede Kugel in 3 Teile teilen und daraus 3 Teigrollen (20cm) formen. Einen Zopf flechten und die Enden zum Kranz verbinden. in der Mitte auf eine Mulde achten. \n4. Mit Eigelb oder Schmand bestreichen und mit Hagelzucker bestreuen. \n5. Bei 185° 20 min. backen. Ei reinsetzen und GUTEN APPETIT! \n  \n  \n 
URL:https://gsamalienhof.de/event/3a-im-jonas-haus-2/
END:VEVENT
BEGIN:VEVENT
DTSTART;VALUE=DATE:20160318
DTEND;VALUE=DATE:20160319
DTSTAMP:20260423T164158
CREATED:20160118T201548Z
LAST-MODIFIED:20160119T194202Z
UID:282-1458259200-1458345599@gsamalienhof.de
SUMMARY:Vorlesestunde
DESCRIPTION:Jeder Lehrer/in\, Erzieher/in stellt ein Buch vor und liest daraus vor. Die verschiedenen Bücher werden 2 Wochen vorher den Kindern vorgestellt\, so dass sich jedes Kind für eine Lesung entscheiden kann.
URL:https://gsamalienhof.de/event/vorlesestunde/
END:VEVENT
BEGIN:VEVENT
DTSTART;VALUE=DATE:20160321
DTEND;VALUE=DATE:20160402
DTSTAMP:20260423T164158
CREATED:20160118T201727Z
LAST-MODIFIED:20160118T201727Z
UID:283-1458518400-1459555199@gsamalienhof.de
SUMMARY:Osterferien
DESCRIPTION:
URL:https://gsamalienhof.de/event/osterferien/
END:VEVENT
END:VCALENDAR