BEGIN:VCALENDAR
VERSION:2.0
PRODID:-// - ECPv6.15.20//NONSGML v1.0//EN
CALSCALE:GREGORIAN
METHOD:PUBLISH
X-ORIGINAL-URL:https://gsamalienhof.de
X-WR-CALDESC:Veranstaltungen für 
REFRESH-INTERVAL;VALUE=DURATION:PT1H
X-Robots-Tag:noindex
X-PUBLISHED-TTL:PT1H
BEGIN:VTIMEZONE
TZID:Europe/Berlin
BEGIN:DAYLIGHT
TZOFFSETFROM:+0100
TZOFFSETTO:+0200
TZNAME:CEST
DTSTART:20150329T010000
END:DAYLIGHT
BEGIN:STANDARD
TZOFFSETFROM:+0200
TZOFFSETTO:+0100
TZNAME:CET
DTSTART:20151025T010000
END:STANDARD
BEGIN:DAYLIGHT
TZOFFSETFROM:+0100
TZOFFSETTO:+0200
TZNAME:CEST
DTSTART:20160327T010000
END:DAYLIGHT
BEGIN:STANDARD
TZOFFSETFROM:+0200
TZOFFSETTO:+0100
TZNAME:CET
DTSTART:20161030T010000
END:STANDARD
BEGIN:DAYLIGHT
TZOFFSETFROM:+0100
TZOFFSETTO:+0200
TZNAME:CEST
DTSTART:20170326T010000
END:DAYLIGHT
BEGIN:STANDARD
TZOFFSETFROM:+0200
TZOFFSETTO:+0100
TZNAME:CET
DTSTART:20171029T010000
END:STANDARD
END:VTIMEZONE
BEGIN:VEVENT
DTSTART;TZID=Europe/Berlin:20160130T000000
DTEND;TZID=Europe/Berlin:20160207T000000
DTSTAMP:20260423T182459
CREATED:20150922T184952Z
LAST-MODIFIED:20150924T075144Z
UID:128-1454112000-1454803200@gsamalienhof.de
SUMMARY:Winterferien
DESCRIPTION:
URL:https://gsamalienhof.de/event/winterferien/
END:VEVENT
BEGIN:VEVENT
DTSTART;VALUE=DATE:20160209
DTEND;VALUE=DATE:20160210
DTSTAMP:20260423T182459
CREATED:20160118T200759Z
LAST-MODIFIED:20160118T200759Z
UID:277-1454976000-1455062399@gsamalienhof.de
SUMMARY:Fasching in den Klassen
DESCRIPTION:
URL:https://gsamalienhof.de/event/fasching-in-den-klassen/
END:VEVENT
BEGIN:VEVENT
DTSTART;VALUE=DATE:20160209
DTEND;VALUE=DATE:20160210
DTSTAMP:20260423T182459
CREATED:20160119T194627Z
LAST-MODIFIED:20160119T194705Z
UID:301-1454976000-1455062399@gsamalienhof.de
SUMMARY:G5 und G1:  Skypemeeting mit Finnland
DESCRIPTION:
URL:https://gsamalienhof.de/event/g5-und-g1-skypemeeting-mit-finnland/
END:VEVENT
BEGIN:VEVENT
DTSTART;VALUE=DATE:20160216
DTEND;VALUE=DATE:20160218
DTSTAMP:20260423T182459
CREATED:20151211T093713Z
LAST-MODIFIED:20151211T093713Z
UID:223-1455580800-1455753599@gsamalienhof.de
SUMMARY:Winterolympiade der G1-G6 und 3. Klassen
DESCRIPTION:
URL:https://gsamalienhof.de/event/winterolympiade-der-g1-g6-und-3-klassen/
END:VEVENT
BEGIN:VEVENT
DTSTART;TZID=Europe/Berlin:20160223T150000
DTEND;TZID=Europe/Berlin:20160223T180000
DTSTAMP:20260423T182459
CREATED:20160118T200858Z
LAST-MODIFIED:20160118T200858Z
UID:278-1456239600-1456250400@gsamalienhof.de
SUMMARY:2. Lesepatentreffen
DESCRIPTION:
URL:https://gsamalienhof.de/event/2-lesepatentreffen/
END:VEVENT
END:VCALENDAR