BEGIN:VCALENDAR
VERSION:2.0
PRODID:-// - ECPv6.15.20//NONSGML v1.0//EN
CALSCALE:GREGORIAN
METHOD:PUBLISH
X-ORIGINAL-URL:https://gsamalienhof.de
X-WR-CALDESC:Veranstaltungen für 
REFRESH-INTERVAL;VALUE=DURATION:PT1H
X-Robots-Tag:noindex
X-PUBLISHED-TTL:PT1H
BEGIN:VTIMEZONE
TZID:Europe/Berlin
BEGIN:DAYLIGHT
TZOFFSETFROM:+0100
TZOFFSETTO:+0200
TZNAME:CEST
DTSTART:20140330T010000
END:DAYLIGHT
BEGIN:STANDARD
TZOFFSETFROM:+0200
TZOFFSETTO:+0100
TZNAME:CET
DTSTART:20141026T010000
END:STANDARD
BEGIN:DAYLIGHT
TZOFFSETFROM:+0100
TZOFFSETTO:+0200
TZNAME:CEST
DTSTART:20150329T010000
END:DAYLIGHT
BEGIN:STANDARD
TZOFFSETFROM:+0200
TZOFFSETTO:+0100
TZNAME:CET
DTSTART:20151025T010000
END:STANDARD
BEGIN:DAYLIGHT
TZOFFSETFROM:+0100
TZOFFSETTO:+0200
TZNAME:CEST
DTSTART:20160327T010000
END:DAYLIGHT
BEGIN:STANDARD
TZOFFSETFROM:+0200
TZOFFSETTO:+0100
TZNAME:CET
DTSTART:20161030T010000
END:STANDARD
END:VTIMEZONE
BEGIN:VEVENT
DTSTART;TZID=Europe/Berlin:20151106T000000
DTEND;TZID=Europe/Berlin:20151106T000000
DTSTAMP:20260423T224839
CREATED:20150922T183013Z
LAST-MODIFIED:20150922T183013Z
UID:118-1446768000-1446768000@gsamalienhof.de
SUMMARY:Lichterlauf
DESCRIPTION:Traditionell laufen Kinder\, Eltern und Lehrer\, wenn es draußen schon dunkel wird\, bei Kerzenlicht und guter Musik. \nDanach gibt es Kinderpunsch\, Obst und Würstchen. \nWir hoffen ihr seid dabei!
URL:https://gsamalienhof.de/event/lichterlauf/
END:VEVENT
BEGIN:VEVENT
DTSTART;VALUE=DATE:20151116
DTEND;VALUE=DATE:20151126
DTSTAMP:20260423T224839
CREATED:20151204T093403Z
LAST-MODIFIED:20151204T093403Z
UID:199-1447632000-1448495999@gsamalienhof.de
SUMMARY:Vorlesewochen
DESCRIPTION:Zum zweiten Mal findet unsere Vorlesewoche für die Kinder der 2.-6. Klassen statt. Jedes Kind liest einen bekannten und anschließend einen ihm unbekannten Text dem Publikum und der Jury vorlesen.
URL:https://gsamalienhof.de/event/vorlesewochen/
END:VEVENT
END:VCALENDAR